BEGIN:VCALENDAR
VERSION:2.0
PRODID:-// - ECPv6.15.20//NONSGML v1.0//EN
CALSCALE:GREGORIAN
METHOD:PUBLISH
X-ORIGINAL-URL:https://spiritlinedancers.at
X-WR-CALDESC:Veranstaltungen für 
REFRESH-INTERVAL;VALUE=DURATION:PT1H
X-Robots-Tag:noindex
X-PUBLISHED-TTL:PT1H
BEGIN:VTIMEZONE
TZID:UTC
BEGIN:STANDARD
TZOFFSETFROM:+0000
TZOFFSETTO:+0000
TZNAME:UTC
DTSTART:20220101T000000
END:STANDARD
END:VTIMEZONE
BEGIN:VEVENT
DTSTART;TZID=UTC:20231215T170000
DTEND;TZID=UTC:20231215T235900
DTSTAMP:20260423T062305
CREATED:20231103T213933Z
LAST-MODIFIED:20231118T201703Z
UID:1282-1702659600-1702684740@spiritlinedancers.at
SUMMARY:Weihnachts Party Spirit Linedancers
DESCRIPTION:
URL:https://spiritlinedancers.at/event/weihnachtsparty-spirit-linedancers/
LOCATION:Gasthaus Aigner\, Nr.44\, Kuffern\, 3125
ATTACH;FMTTYPE=image/jpeg:https://spiritlinedancers.at/wp-content/uploads/2023/11/weihnachtsparty-uhrzeit.jpg
END:VEVENT
END:VCALENDAR