BEGIN:VCALENDAR
VERSION:2.0
PRODID:-// - ECPv6.15.20//NONSGML v1.0//EN
CALSCALE:GREGORIAN
METHOD:PUBLISH
X-ORIGINAL-URL:https://spiritlinedancers.at
X-WR-CALDESC:Veranstaltungen für 
REFRESH-INTERVAL;VALUE=DURATION:PT1H
X-Robots-Tag:noindex
X-PUBLISHED-TTL:PT1H
BEGIN:VTIMEZONE
TZID:UTC
BEGIN:STANDARD
TZOFFSETFROM:+0000
TZOFFSETTO:+0000
TZNAME:UTC
DTSTART:20230101T000000
END:STANDARD
END:VTIMEZONE
BEGIN:VEVENT
DTSTART;TZID=UTC:20260213T170000
DTEND;TZID=UTC:20260213T233000
DTSTAMP:20260421T095939
CREATED:20251227T071301Z
LAST-MODIFIED:20251227T071301Z
UID:2747-1771002000-1771025400@spiritlinedancers.at
SUMMARY:Faschingsparty - geschlossene Veranstaltung!!!
DESCRIPTION:Faschingsparty\nWir möchten Euch ganz herzlich\nzu unserer Faschingsparty am \n13. Februar 2026 – ab 17.00 Uhr im\nGasthaus Aigner – 3125 Kuffern – Dorfplatz 4\neinladen.\nVerkleidung erwünscht – aber kein Muss !!! \nWir bitten um Freiwillige Spenden! \nMichaela\, Tina & Claudia
URL:https://spiritlinedancers.at/event/faschingsparty-geschlossene-veranstaltung-2/
LOCATION:Gasthaus Aigner\, Nr.44\, Kuffern\, 3125
ATTACH;FMTTYPE=image/jpeg:https://spiritlinedancers.at/wp-content/uploads/2025/12/karnevalfeier-mit-maske-und-partyhut_24877-54798.jpeg
END:VEVENT
BEGIN:VEVENT
DTSTART;TZID=UTC:20260113T170000
DTEND;TZID=UTC:20260113T180000
DTSTAMP:20260421T095939
CREATED:20250711T193634Z
LAST-MODIFIED:20251227T071424Z
UID:2437-1768323600-1768327200@spiritlinedancers.at
SUMMARY:Linedance mit Janine für Teens und Youngsters von 10-20 Jahren
DESCRIPTION:
URL:https://spiritlinedancers.at/event/linedance-mit-janine-fuer-teens-und-youngsters-von-10-20-jahren/
LOCATION:Steingöttersaal\, St. Pölten\, 3100
ATTACH;FMTTYPE=image/jpeg:https://spiritlinedancers.at/wp-content/uploads/2025/07/Janine-quadrat.jpg
END:VEVENT
BEGIN:VEVENT
DTSTART;TZID=UTC:20251219T170000
DTEND;TZID=UTC:20251219T235500
DTSTAMP:20260421T095939
CREATED:20251026T195345Z
LAST-MODIFIED:20251212T165107Z
UID:2599-1766163600-1766188500@spiritlinedancers.at
SUMMARY:Weihnachtsparty 2025 - geschlossene Veranstaltung!
DESCRIPTION:Liebe Tänzerinnen und Tänzer!\nIhr seid ganz herzlich zur heurigen Weihnachtsparty der Spirit Linedancers eingeladen!\n Freitag\, 19.12.2025 ab 17.00 Uhr\nGasthaus Aigner – 3125 Kuffern – Dorfplatz 4\nAuf Euer Kommen freuen sich \nMichaela\, Tina & Claudia
URL:https://spiritlinedancers.at/event/weihnachtsparty-2025-geschlossene-veranstaltung/
LOCATION:Gasthaus Aigner\, Nr.44\, Kuffern\, 3125
ATTACH;FMTTYPE=image/jpeg:https://spiritlinedancers.at/wp-content/uploads/2024/10/glocke-1.jpg
END:VEVENT
BEGIN:VEVENT
DTSTART;TZID=UTC:20251115T140000
DTEND;TZID=UTC:20251115T235900
DTSTAMP:20260421T095939
CREATED:20250323T081356Z
LAST-MODIFIED:20251111T202325Z
UID:2306-1763215200-1763251140@spiritlinedancers.at
SUMMARY:Lower Austria in Line
DESCRIPTION:
URL:https://spiritlinedancers.at/event/lower-austria-in-line/
ATTACH;FMTTYPE=image/jpeg:https://spiritlinedancers.at/wp-content/uploads/2025/03/LowerAustriaFlyerBeitragsbild.jpg
END:VEVENT
BEGIN:VEVENT
DTSTART;VALUE=DATE:20251108
DTEND;VALUE=DATE:20251109
DTSTAMP:20260421T095939
CREATED:20251005T185103Z
LAST-MODIFIED:20251031T132119Z
UID:2574-1762560000-1762646399@spiritlinedancers.at
SUMMARY:Vereinsausflug 2025 - geschlossene Veranstaltung!
DESCRIPTION:Vereinsausflug\n  \nLiebe Tänzerinnen und Tänzer!\nUnser 1. Vereinsausflug findet am Samstag\, 8.11.2025 statt. \nAbfahrt: 10.15 Uhr vor der Gemeinde in Nussdorf \nRückkunft: 20.00 Uhr                                                                 \nProgramm:\n11.45 Uhr Weinkellerführung im Stift Klosterneuburg (1 Stunde) \n12.45 Uhr Weinverkostung von 6 Weinen und große Weinjause ODER Zeit zum Bummeln in Klosterneuburg (1 Stunde) \n13.45 Uhr große Stiftsführung (1\,5 Stunden) \n15.30 Uhr gemütlicher Ausklang beim Heurigen in Klosterneuburg \n  \nWir würden uns freuen\, wenn sehr viele mitfahren und wir gemeinsam einen großartigen Tag verbringen! \n\nMichaela\, Tina & Claudia
URL:https://spiritlinedancers.at/event/vereinsausflug-2025-geschlossene-veranstaltung/
ATTACH;FMTTYPE=image/png:https://spiritlinedancers.at/wp-content/uploads/2025/10/Vereinsausflug-Titel16zu9.png
END:VEVENT
BEGIN:VEVENT
DTSTART;TZID=UTC:20251025T180000
DTEND;TZID=UTC:20251025T235500
DTSTAMP:20260421T095939
CREATED:20250726T193358Z
LAST-MODIFIED:20250726T193358Z
UID:2448-1761415200-1761436500@spiritlinedancers.at
SUMMARY:Blue Wave Dancers 5/10 Jahres Feier
DESCRIPTION:
URL:https://spiritlinedancers.at/event/blue-wave-dancers-5-10-jahres-feier/
ATTACH;FMTTYPE=image/jpeg:https://spiritlinedancers.at/wp-content/uploads/2025/07/Blue-wave-dancers-feier.jpg
END:VEVENT
BEGIN:VEVENT
DTSTART;VALUE=DATE:20251003
DTEND;VALUE=DATE:20251006
DTSTAMP:20260421T095939
CREATED:20250212T164155Z
LAST-MODIFIED:20250212T164555Z
UID:2203-1759449600-1759708799@spiritlinedancers.at
SUMMARY:ACWDC in St. Pölten – Internationales GOLD Turnier & Workshops
DESCRIPTION:ACWDC in St. Pölten – Internationales GOLD Turnier & Workshops\n\n3. Oktober 2025 – 5. Oktober 2025\n\n\n\nVon 03.-05. Oktober 2025 wieder in der großartigen Jahnturnhalle in St. Pölten. \nCompetitions\, Party\, Workshops mit Romain Brasme Ronkes… die Eventdirektorinnen Dagmar und Claudia freuen sich auf Euch! \nHomepage: https://acwdc-gold.at/
URL:https://spiritlinedancers.at/event/acwdc-in-st-poelten-internationales-gold-turnier-workshops/
LOCATION:Jahnturnhalle\, Jahnstraße 15\, St.Pölten\, Nö\, 3100
ATTACH;FMTTYPE=image/png:https://spiritlinedancers.at/wp-content/uploads/2025/02/LogoGOLD-acwdc-white-e1684693505188.png
END:VEVENT
BEGIN:VEVENT
DTSTART;TZID=UTC:20250815T193000
DTEND;TZID=UTC:20250815T235900
DTSTAMP:20260421T095939
CREATED:20250320T072903Z
LAST-MODIFIED:20250320T072903Z
UID:2303-1755286200-1755302340@spiritlinedancers.at
SUMMARY:Summer Line Dance in St.Pölten
DESCRIPTION:
URL:https://spiritlinedancers.at/event/summer-line-dance-in-st-poelten-3/
LOCATION:Strands\, Bimbo Binder Promenade 15\, St.Pölten\, Nö\, 3100\, Austria
ATTACH;FMTTYPE=image/png:https://spiritlinedancers.at/wp-content/uploads/2025/03/Summerdance-MM-Beitragsbild.quadratisch.png
END:VEVENT
BEGIN:VEVENT
DTSTART;TZID=UTC:20250725T193000
DTEND;TZID=UTC:20250725T235900
DTSTAMP:20260421T095939
CREATED:20250320T072757Z
LAST-MODIFIED:20250320T072805Z
UID:2301-1753471800-1753487940@spiritlinedancers.at
SUMMARY:Summer Line Dance in St.Pölten
DESCRIPTION:
URL:https://spiritlinedancers.at/event/summer-line-dance-in-st-poelten-2/
LOCATION:Strands\, Bimbo Binder Promenade 15\, St.Pölten\, Nö\, 3100\, Austria
ATTACH;FMTTYPE=image/png:https://spiritlinedancers.at/wp-content/uploads/2025/03/Summerdance-MM-Beitragsbild.quadratisch.png
END:VEVENT
BEGIN:VEVENT
DTSTART;TZID=UTC:20250704T193000
DTEND;TZID=UTC:20250704T235900
DTSTAMP:20260421T095939
CREATED:20250320T063616Z
LAST-MODIFIED:20250611T123811Z
UID:2284-1751657400-1751673540@spiritlinedancers.at
SUMMARY:Line Dance Disco am FF Maria Jeutendorf
DESCRIPTION:
URL:https://spiritlinedancers.at/event/line-dance-disco-am-ff-maria-jeutendorf/
LOCATION:Maria Jeutendorf
ATTACH;FMTTYPE=image/png:https://spiritlinedancers.at/wp-content/uploads/2025/03/jeutendorf2025-Beitragsbild-quadrat.png
END:VEVENT
BEGIN:VEVENT
DTSTART;TZID=UTC:20250620T193000
DTEND;TZID=UTC:20250620T235900
DTSTAMP:20260421T095939
CREATED:20250320T064722Z
LAST-MODIFIED:20250320T071910Z
UID:2289-1750447800-1750463940@spiritlinedancers.at
SUMMARY:Summer Line Dance in St.Pölten
DESCRIPTION:
URL:https://spiritlinedancers.at/event/summer-line-dance-in-st-poelten/
LOCATION:Strands\, Bimbo Binder Promenade 15\, St.Pölten\, Nö\, 3100\, Austria
ATTACH;FMTTYPE=image/png:https://spiritlinedancers.at/wp-content/uploads/2025/03/Summerdance-MM-Beitragsbild.quadratisch.png
END:VEVENT
BEGIN:VEVENT
DTSTART;TZID=UTC:20250610T183000
DTEND;TZID=UTC:20250610T210000
DTSTAMP:20260421T095939
CREATED:20250223T110051Z
LAST-MODIFIED:20250510T184308Z
UID:2225-1749580200-1749589200@spiritlinedancers.at
SUMMARY:Techniktraining und Tanzabzeichenvorbereitung
DESCRIPTION:Techniktraining und Tanzabzeichenvorbereitung\nSilber  &  Gold  &  Partner Dance (Bronze)\nMichaela Tscherny\, diplomierte Übungsleiterin unterrichtet: \nMusikalität:                         Takt und Rhythmus \nBalance:                               Haltung\, Schritttechnik\, Fußpositionen\, Drehungen \nBewegungsabläufe:         Bewegungsfluss/Motion \n                                                 Waltz\, West Coast Swing\, Polka\, East Coast Swing\, Cha Cha \n11.3. + 1.4. + 22.4. + 6.5. + 10.6. +  2.9. + 16.9. + 30.9. + 7.10. + 14.10.\n— immer am Dienstag ab 18.30 Uhr —\nIm Turnsaal der VS Nussdorf/Traisen – Schulgasse 13 – 3134 Nussdorf/Traisen \nKosten: 5er Block um 75 € – 15 €/Abend – Bitte am 1. Abend zu bezahlen! \nSilber- und Goldtänze werden abwechselnd unterrichtet\, anhand dieser Tänze werden die Techniken erlernt. \nBei den Partner Tänzen gibt es immer einen Leader und einen Follower. \nDieses Training ist für jedes Level geeignet!\nAnmeldung unter: michaela.tscherny@aon.at oder 0664 / 45 08 616 \n 
URL:https://spiritlinedancers.at/event/techniktraining-und-tanzabzeichenvorbereitung/
LOCATION:Turnsaal VS Nussdorf/Traisen\, Schulgasse 13\, Nussdorf / Traisen\, NÖ\, 3134
ATTACH;FMTTYPE=image/jpeg:https://spiritlinedancers.at/wp-content/uploads/2025/02/Cha-Cha-Technik4eck.jpg
END:VEVENT
BEGIN:VEVENT
DTSTART;TZID=UTC:20250607T140000
DTEND;TZID=UTC:20250607T235900
DTSTAMP:20260421T095939
CREATED:20250114T190052Z
LAST-MODIFIED:20250326T224145Z
UID:2109-1749304800-1749340740@spiritlinedancers.at
SUMMARY:Spirit Summer Dance 2025
DESCRIPTION:  \n  \n 
URL:https://spiritlinedancers.at/event/spirit-summer-dance/
LOCATION:Stadtsäle – D&C Cityhotel – 3100 St.Pölten
ATTACH;FMTTYPE=image/jpeg:https://spiritlinedancers.at/wp-content/uploads/2025/01/Spirit-Summer-Dance_DECKBLATT-1-scaled.jpeg
END:VEVENT
BEGIN:VEVENT
DTSTART;TZID=UTC:20250228T170000
DTEND;TZID=UTC:20250228T235900
DTSTAMP:20260421T095939
CREATED:20241224T041252Z
LAST-MODIFIED:20250207T181433Z
UID:2051-1740762000-1740787140@spiritlinedancers.at
SUMMARY:Faschingsparty - geschlossene Veranstaltung!
DESCRIPTION:  \nFaschingsparty\nWir möchten Euch ganz herzlich\nzu unserer Faschingsparty am \n28. Februar 2025 – ab 17.00 Uhr im\nLandgasthof Huber – Wachaustrasse 43 – 3133 Traismauer \neinladen.\nVerkleidung erwünscht – aber kein Muss !!! \nBeginner Workshops und Show der Auftrittsgruppe \nWir bitten um Freiwillige Spenden \nMichaela\, Renate & Claudia
URL:https://spiritlinedancers.at/event/faschingsparty-geschlossene-veranstaltung/
LOCATION:Landgasthof Huber
ATTACH;FMTTYPE=image/jpeg:https://spiritlinedancers.at/wp-content/uploads/2024/12/Faschingsparty2025.jpg
END:VEVENT
BEGIN:VEVENT
DTSTART;TZID=UTC:20250221T180000
DTEND;TZID=UTC:20250221T233000
DTSTAMP:20260421T095939
CREATED:20250119T082737Z
LAST-MODIFIED:20250119T083708Z
UID:2127-1740160800-1740180600@spiritlinedancers.at
SUMMARY:Magdalena´s Faschingsparty
DESCRIPTION:
URL:https://spiritlinedancers.at/event/magdalenas-faschingsparty/
ATTACH;FMTTYPE=image/png:https://spiritlinedancers.at/wp-content/uploads/2025/01/Magdalena-Fasching-2025a.jpeg-1.png
END:VEVENT
BEGIN:VEVENT
DTSTART;TZID=UTC:20250118T140000
DTEND;TZID=UTC:20250118T180000
DTSTAMP:20260421T095939
CREATED:20241225T222906Z
LAST-MODIFIED:20241225T224051Z
UID:2088-1737208800-1737223200@spiritlinedancers.at
SUMMARY:ACWDA – National Workshopday 2025 – NÖ Nord
DESCRIPTION:ACWDA – National Workshopday 2025 – NÖ Nord\nehemalige Windburn Groß Burgstall 37\, Groß Burgstall\, Niederösterreich\, Austria\n\n\nNational Workshopday 2025 – 18.01. Niederösterreich Nord
URL:https://spiritlinedancers.at/event/acwda-national-workshopday-2025-noe-nord/
LOCATION:Groß Burgstall 37\, 3580 Groß Burgstall
ATTACH;FMTTYPE=image/jpeg:https://spiritlinedancers.at/wp-content/uploads/2024/12/oecwta2.jpg
END:VEVENT
BEGIN:VEVENT
DTSTART;VALUE=DATE:20250117
DTEND;VALUE=DATE:20250120
DTSTAMP:20260421T095939
CREATED:20241101T061154Z
LAST-MODIFIED:20241224T041627Z
UID:1959-1737072000-1737331199@spiritlinedancers.at
SUMMARY:Weekend mit Roy Verdonk
DESCRIPTION:Weekend mit Roy Verdonk – Jänner 2025\n 
URL:https://spiritlinedancers.at/event/weekend-mit-roy-verdonk/
ATTACH;FMTTYPE=image/jpeg:https://spiritlinedancers.at/wp-content/uploads/2023/10/Roy-Verdonk2_low.jpg
END:VEVENT
BEGIN:VEVENT
DTSTART;VALUE=DATE:20241220
DTEND;VALUE=DATE:20241221
DTSTAMP:20260421T095939
CREATED:20241025T043338Z
LAST-MODIFIED:20241025T043338Z
UID:1949-1734652800-1734739199@spiritlinedancers.at
SUMMARY:Weihnachts Party Spirit Linedancers - geschlossene Veranstaltung!
DESCRIPTION:Liebe Tänzerinnen und Tänzer!\nIhr seid herzlich zur Weihnachtsparty der Spirit Linedancers eingeladen.\nam Freitag dem 20.12.2024 ab 17.00 Uhr\nim Gasthof Schmid – Schloßstraße 20 – 3454 Sitzenberg\nAuf Euer Kommen freuen sich \nMichaela\, Renate & Claudia
URL:https://spiritlinedancers.at/event/weihnachts-party-spirit-linedancers-geschlossene-veranstaltung/
LOCATION:Landgasthof Schmid – 3454 Sitzenberg
ATTACH;FMTTYPE=image/jpeg:https://spiritlinedancers.at/wp-content/uploads/2024/10/glocke-1.jpg
END:VEVENT
BEGIN:VEVENT
DTSTART;VALUE=DATE:20241115
DTEND;VALUE=DATE:20241118
DTSTAMP:20260421T095939
CREATED:20240701T103945Z
LAST-MODIFIED:20241101T060656Z
UID:1829-1731628800-1731887999@spiritlinedancers.at
SUMMARY:abgesagt---Patrick Hering LD/WCS Workshop---abgesagt
DESCRIPTION:Nähere Infos folgen!
URL:https://spiritlinedancers.at/event/patrick-hering-ld-wcs-workshop/
ATTACH;FMTTYPE=image/jpeg:https://spiritlinedancers.at/wp-content/uploads/2024/07/Patrick-Hering1-1.jpg
END:VEVENT
BEGIN:VEVENT
DTSTART;VALUE=DATE:20241004
DTEND;VALUE=DATE:20241007
DTSTAMP:20260421T095939
CREATED:20231018T004421Z
LAST-MODIFIED:20231227T183905Z
UID:803-1728000000-1728259199@spiritlinedancers.at
SUMMARY:ACWDC St.Pölten
DESCRIPTION:ACWDC 2024 – Internationales GOLD Event in Österreich!\n\n\nDer Termin für die ACWDC 2024 ist fixiert: 04.-06.10.2024 Bitte merkt euch den Termin vor – DANKE & see you there. \nWorkshops mit Grégory Danvoie !
URL:https://spiritlinedancers.at/event/acwdc-st-poelten/
ATTACH;FMTTYPE=image/png:https://spiritlinedancers.at/wp-content/uploads/2023/10/LogoGOLD-acwdc-white-e1684693505188.png
END:VEVENT
BEGIN:VEVENT
DTSTART;VALUE=DATE:20240907
DTEND;VALUE=DATE:20240909
DTSTAMP:20260421T095939
CREATED:20231018T004148Z
LAST-MODIFIED:20240831T050308Z
UID:797-1725667200-1725839999@spiritlinedancers.at
SUMMARY:Landes Meisterschaft Wien - ABGESAGT !!!
DESCRIPTION:Save the date – 2024 Landesmeisterschaft Wien\nHaus der Begegnung Liesing Perchtoldsdorfer Str. 1\, Wien\, Wien\, Austria\n\n\nSave the date: Im September findet die zweite offene Landesmeisterschaft in Wien statt\, bei der sich österreichische Tänzer:innen auch für die Teilnahme an der Staatsmeisterschaft qualifizieren können.
URL:https://spiritlinedancers.at/event/landesmeisterschaft-wien/
LOCATION:Haus der Begegnung Liesing\, Perchtoldsdorferstrasse 1\, Wien\, Wien\, 1230\, Österreich
ATTACH;FMTTYPE=image/png:https://spiritlinedancers.at/wp-content/uploads/2023/10/Logo_Linedance_schwarz_klein-603x321-1.png
END:VEVENT
BEGIN:VEVENT
DTSTART;VALUE=DATE:20240718
DTEND;VALUE=DATE:20240722
DTSTAMP:20260421T095939
CREATED:20231018T003647Z
LAST-MODIFIED:20231018T003647Z
UID:793-1721260800-1721606399@spiritlinedancers.at
SUMMARY:Dance Camp am Hochkar mit Roy & Fiona
DESCRIPTION:ACWDA Dance Camp 2024 mit Roy & Fiona\nJUFA Hochkar Sport Resort Lassing 49\, Göstling an der Ybbs / NÖ\, Niederösterreich\, Austria\n\n\nDance Camp von 18. bis 21. Juli 2024 im JUFA Hotel Hochkar*** im Mostviertel Details folgen! Trainingscamp für technik-interessierte TänzerInnen\, Linedance-ÜbungsleiterInnen und Competition-TänzerInnen Freut euch auf 2 Mega-Stars der Line Dance Szene.
URL:https://spiritlinedancers.at/event/dance-camp-am-hochkar-mit-roy-fiona/
LOCATION:JUFA Hochkar Sport Resort\, Lassing 49\, Göstling / Ybbs\, NÖ\, Österreich
ATTACH;FMTTYPE=image/jpeg:https://spiritlinedancers.at/wp-content/uploads/2023/10/RF.jpg
END:VEVENT
BEGIN:VEVENT
DTSTART;VALUE=DATE:20240711
DTEND;VALUE=DATE:20240714
DTSTAMP:20260421T095939
CREATED:20231018T003116Z
LAST-MODIFIED:20240501T172054Z
UID:791-1720656000-1720915199@spiritlinedancers.at
SUMMARY:Roy Verdonk
DESCRIPTION:Technik Weekend mit ROY VERDONK – Juli 2024\n\n\nRoy Verdonk kommt für Technik Workshops & Privates Merkt Euch schon mal die Termine vor!   Details folgen
URL:https://spiritlinedancers.at/event/roy-verdonk-4/
ATTACH;FMTTYPE=image/jpeg:https://spiritlinedancers.at/wp-content/uploads/2023/10/roy2.jpg
END:VEVENT
BEGIN:VEVENT
DTSTART;TZID=UTC:20240705T193000
DTEND;TZID=UTC:20240705T235900
DTSTAMP:20260421T095939
CREATED:20240310T092823Z
LAST-MODIFIED:20240701T091934Z
UID:1479-1720207800-1720223940@spiritlinedancers.at
SUMMARY:LineDanceDisco am FF in Maria Jeutendorf
DESCRIPTION:Line Dance Disco im schönen Schlossgarten in Maria Jeutendorf (3140 Pottenbrunn) \nFreitag 5. Juli 2024 – 19.30 Uhr \nAnmeldungen und Tanzwünsche bis 28.6.2024 direkt an Magdalena Kreimel (magdalena.kreimel@gmx.at) \n 
URL:https://spiritlinedancers.at/event/linedancedisco-am-ff-in-maria-jeutendorf/
LOCATION:Maria Jeutendorf
ATTACH;FMTTYPE=image/png:https://spiritlinedancers.at/wp-content/uploads/2024/03/Linedance-Maria-Jeutendorf1-2.png
END:VEVENT
BEGIN:VEVENT
DTSTART;VALUE=DATE:20240614
DTEND;VALUE=DATE:20240617
DTSTAMP:20260421T095939
CREATED:20231018T003005Z
LAST-MODIFIED:20240501T172004Z
UID:789-1718323200-1718582399@spiritlinedancers.at
SUMMARY:Roy Verdonk
DESCRIPTION:Technik Weekend mit ROY VERDONK – Juni 2024\n\n\nRoy Verdonk kommt für Technik Workshops & Privates Merkt Euch schon mal die Termine vor!   Details folgen
URL:https://spiritlinedancers.at/event/roy-verdonk-3/
ATTACH;FMTTYPE=image/jpeg:https://spiritlinedancers.at/wp-content/uploads/2023/10/roy1.jpg
END:VEVENT
BEGIN:VEVENT
DTSTART;TZID=UTC:20240607T170000
DTEND;TZID=UTC:20240607T234500
DTSTAMP:20260421T095939
CREATED:20240516T112058Z
LAST-MODIFIED:20240524T174707Z
UID:1675-1717779600-1717803900@spiritlinedancers.at
SUMMARY:Sommerfest Spirit Linedancers - geschlossene Veranstaltung!
DESCRIPTION:sommerfest.jpg  \n  \n 
URL:https://spiritlinedancers.at/event/sommerfest-spirit-linedancers-geschlossene-veranstaltung/
LOCATION:Landgasthof Schmid – 3454 Sitzenberg
ATTACH;FMTTYPE=image/jpeg:https://spiritlinedancers.at/wp-content/uploads/2024/05/sommerfest.jpg
END:VEVENT
BEGIN:VEVENT
DTSTART;VALUE=DATE:20240427
DTEND;VALUE=DATE:20240429
DTSTAMP:20260421T095939
CREATED:20231018T000457Z
LAST-MODIFIED:20231222T021753Z
UID:782-1714176000-1714348799@spiritlinedancers.at
SUMMARY:NÖ Landes-Meisterschaft mit Roy Hadisubroto & Fiona Murray
DESCRIPTION:Heuer mal ganz anders – naja\, bis aufs Datum ;-)Im Zuge des Line Dance Wochenendes mit Roy und Fiona wird auch die Niederösterreichische Landesmeisterschaft stattfinden.Für einen Beitrag von nur 10 € zusätzlich zum Kombiticket kann aktiv an der Competition teilgenommen werden. Nutzt diese Chance an diesem Wochenende durchzustarten!Tickets für dieses Wochenende können hier bereits bestellt werden. Die Anmeldung für die Competition wird voraussichtlich ab Jänner 2024 offen sein. \n\nVoraussichtlicher Zeitplan (Änderungen vorbehalten): \n\nFreitag: Privates (buchbar über die ACWDA)\nSamstag:\n08:30-13:00 Competition\n14:00-18:30 Social Workshop\nAbends: Party\, Ehrung Österreichische Meister 2023\nSonntag:\n09:00-11:00 Competition\n13:00-16:30 Technik Workshop\n\n 
URL:https://spiritlinedancers.at/event/roy-hadisubroto-fiona-murray/
LOCATION:Jubiläumshalle Biedermannsdorf\, NÖ
ATTACH;FMTTYPE=image/jpeg:https://spiritlinedancers.at/wp-content/uploads/2023/10/RF-LDWE-0423.jpeg
END:VEVENT
BEGIN:VEVENT
DTSTART;VALUE=DATE:20240405
DTEND;VALUE=DATE:20240408
DTSTAMP:20260421T095939
CREATED:20231017T235716Z
LAST-MODIFIED:20231018T001235Z
UID:779-1712275200-1712534399@spiritlinedancers.at
SUMMARY:Roy Verdonk
DESCRIPTION:Technik Weekend mit ROY VERDONK – April 2024\n\n\nRoy Verdonk kommt für Technik Workshops & Privates Merkt Euch schon mal die Termine vor!   Details folgen
URL:https://spiritlinedancers.at/event/roy-verdonk-2/
ATTACH;FMTTYPE=image/jpeg:https://spiritlinedancers.at/wp-content/uploads/2023/10/Roy-Verdonk2_low.jpg
END:VEVENT
BEGIN:VEVENT
DTSTART;VALUE=DATE:20240329
DTEND;VALUE=DATE:20240331
DTSTAMP:20260421T095939
CREATED:20240225T124138Z
LAST-MODIFIED:20240225T124609Z
UID:1501-1711670400-1711843199@spiritlinedancers.at
SUMMARY:5 Jahre Free Spirit LD-IG mit Lee Hamilton
DESCRIPTION:März 2024: 5 Jahre Free Spirit LD-IG\n\n29. März 2024 @ 18:00 – 30. März 2024 @ 0:00\n\n\n\nDie Free Spirit LD-IG läd zu Party und Workshop mit Lee Hamilton ein! \nDetails siehe Flyer
URL:https://spiritlinedancers.at/event/5-jahre-free-spirit-ld-ig-mit-lee-hamilton/
LOCATION:Jubiläumshalle Biedermannsdorf\, NÖ
ATTACH;FMTTYPE=image/jpeg:https://spiritlinedancers.at/wp-content/uploads/2024/02/Free-Spirit-e1708865149774.jpg
END:VEVENT
BEGIN:VEVENT
DTSTART;VALUE=DATE:20240223
DTEND;VALUE=DATE:20240225
DTSTAMP:20260421T095939
CREATED:20231003T211027Z
LAST-MODIFIED:20231105T162552Z
UID:639-1708646400-1708819199@spiritlinedancers.at
SUMMARY:Maggie Gallagher - ausgebucht!!!
DESCRIPTION:2 Tage LineDance mit Maggie Gallagher im Februar 2024\nWorkshop und Party mit Maggie Gallagher am 23. und 24. Februar 2024\n\n\nEine Veranstaltung von Margit Leuthner & Franziska Zillinger-Schicho & Just4Fun Dancers
URL:https://spiritlinedancers.at/event/maggie-gallagher/
LOCATION:Jubiläumshalle Biedermannsdorf\, NÖ
ATTACH;FMTTYPE=image/jpeg:https://spiritlinedancers.at/wp-content/uploads/2023/10/202402_SaveTheDate_Bild.jpg
END:VEVENT
END:VCALENDAR