BEGIN:VCALENDAR
VERSION:2.0
PRODID:-// - ECPv6.15.20//NONSGML v1.0//EN
CALSCALE:GREGORIAN
METHOD:PUBLISH
X-ORIGINAL-URL:https://spiritlinedancers.at
X-WR-CALDESC:Veranstaltungen für 
REFRESH-INTERVAL;VALUE=DURATION:PT1H
X-Robots-Tag:noindex
X-PUBLISHED-TTL:PT1H
BEGIN:VTIMEZONE
TZID:UTC
BEGIN:STANDARD
TZOFFSETFROM:+0000
TZOFFSETTO:+0000
TZNAME:UTC
DTSTART:20230101T000000
END:STANDARD
END:VTIMEZONE
BEGIN:VEVENT
DTSTART;VALUE=DATE:20240216
DTEND;VALUE=DATE:20240219
DTSTAMP:20260423T043023
CREATED:20231003T205929Z
LAST-MODIFIED:20231230T103327Z
UID:633-1708041600-1708300799@spiritlinedancers.at
SUMMARY:Roy Verdonk
DESCRIPTION:Technik Weekend mit ROY VERDONK – Februar 2024\n\n\n  \n\n\n\nRoy Verdonk kommt für Technik Workshops & Privates \nMerkt Euch schon mal die Termine vor! \n  \nDetails \nAnmeldung
URL:https://spiritlinedancers.at/event/roy-verdonk/
ATTACH;FMTTYPE=image/jpeg:https://spiritlinedancers.at/wp-content/uploads/2023/10/Roy-Verdonk2_low.jpg
END:VEVENT
END:VCALENDAR